BEGIN:VCALENDAR
VERSION:2.0
PRODID:-//wp-events-plugin.com//7.2.3.1//EN
TZID:Europe/Berlin
X-WR-TIMEZONE:Europe/Berlin
BEGIN:VEVENT
UID:747@taucha-events.de
DTSTART;TZID=Europe/Berlin:20260510T070000
DTEND;TZID=Europe/Berlin:20260510T190000
DTSTAMP:20260421T054111Z
URL:https://taucha-events.de/termine/17-lvz-fahrradfest/
SUMMARY:17. LVZ-Fahrradfest
DESCRIPTION:Das Fahrradfest der Tageszeitung. Verbunden mit großräumigen 
 Verkehrsraumeinschränkungen ganztags in der Innenstadt und im Gewerbegebi
 et an der Autobahn.
CATEGORIES:Gesellschaft,Hobby,Kinder und Jugend,Sport
LOCATION:Taucha\, Stadtgebiet\, Markt\, Taucha\, 04425\, Deutschland
X-APPLE-STRUCTURED-LOCATION;VALUE=URI;X-ADDRESS=Markt\, Taucha\, 04425\, De
 utschland;X-APPLE-RADIUS=100;X-TITLE=Taucha\, Stadtgebiet:geo:0,0
END:VEVENT
BEGIN:VTIMEZONE
TZID:Europe/Berlin
X-LIC-LOCATION:Europe/Berlin
BEGIN:DAYLIGHT
DTSTART:20260329T030000
TZOFFSETFROM:+0100
TZOFFSETTO:+0200
TZNAME:CEST
END:DAYLIGHT
END:VTIMEZONE
END:VCALENDAR