BEGIN:VCALENDAR
VERSION:2.0
PRODID:-//wp-events-plugin.com//7.2.3.1//EN
TZID:Europe/Berlin
X-WR-TIMEZONE:Europe/Berlin
BEGIN:VEVENT
UID:223@taucha-events.de
DTSTART;TZID=Europe/Berlin:20240909T190000
DTEND;TZID=Europe/Berlin:20240909T190000
DTSTAMP:20240903T063238Z
URL:https://taucha-events.de/termine/2-buergersprechstunde-der-afd-taucha/
SUMMARY:2. Bürgersprechstunde der AfD Taucha
DESCRIPTION:2. Bürgersprechstunde mit den AfD-Stadträten im Haus 10 des S
 chlosses Taucha.
ATTACH;FMTTYPE=image/jpeg:https://taucha-events.de/wp-content/uploads/2024
 /01/taucha-schloss-dez23.jpg
CATEGORIES:Politik
LOCATION:Rittergutsschloss Taucha\, Haugwitzwinkel 1\, Taucha\, Sachsen\, 0
 4425\, Deutschland
X-APPLE-STRUCTURED-LOCATION;VALUE=URI;X-ADDRESS=Haugwitzwinkel 1\, Taucha\,
  Sachsen\, 04425\, Deutschland;X-APPLE-RADIUS=100;X-TITLE=Rittergutsschlos
 s Taucha:geo:0,0
END:VEVENT
BEGIN:VTIMEZONE
TZID:Europe/Berlin
X-LIC-LOCATION:Europe/Berlin
BEGIN:DAYLIGHT
DTSTART:20240331T030000
TZOFFSETFROM:+0100
TZOFFSETTO:+0200
TZNAME:CEST
END:DAYLIGHT
END:VTIMEZONE
END:VCALENDAR