BEGIN:VCALENDAR
VERSION:2.0
PRODID:-//wp-events-plugin.com//7.2.3.1//EN
TZID:Europe/Berlin
X-WR-TIMEZONE:Europe/Berlin
BEGIN:VEVENT
UID:803@taucha-events.de
DTSTART;TZID=Europe/Berlin:20260508T160000
DTEND;TZID=Europe/Berlin:20260508T200000
DTSTAMP:20260421T120056Z
URL:https://taucha-events.de/termine/athletics-open-week-2026-05-04-2026-0
 5-05-2026-05-06-2026-05-07-2026-05-08/
SUMMARY:Athletics Open Week
DESCRIPTION:Der LC Taucha e.V. öffnet Anfang Mai seine Trainingsangebote f
 ür alle\, die Leichtathletik einmal ausprobieren möchten. Bei der „Ath
 letics Open Week“ von Montag\, 4. Mai\, bis Mittwoch\, 13. Mai 2026\, si
 nd Kinder\, Jugendliche\, Erwachsene\, Familien und Senioren eingeladen\, 
 kostenlos mitzumachen.\n\nDie offene Schnupperwoche findet auf dem Sport- 
 und Freizeitzentrum an der Kriekauer Straße in Taucha statt. Trainiert wi
 rd montags bis freitags zwischen 16 und 20 Uhr. Die genauen Zeiten erhalte
 n Interessierte nach der Anmeldung. Vorkenntnisse sind nicht nötig.\n\nDe
 r Verein setzt auf ein breites Mitmachangebot für alle Altersgruppen. Im 
 Mittelpunkt stehen Freude an Bewegung und ein unkomplizierter Einstieg in 
 die Leichtathletik.\n\nMehr Infos bei Taucha kompakt
ATTACH;FMTTYPE=image/jpeg:https://taucha-events.de/wp-content/uploads/2026
 /04/lc-taucha-openweek-banner.gif
CATEGORIES:Kinder und Jugend,Sport
LOCATION:Sport- und Freizeitzentrum (SFZ) Kriekauer Straße\, Kriekauer Str
 aße 21\, Taucha\, Sachsen\, 04425\, Deutschland
X-APPLE-STRUCTURED-LOCATION;VALUE=URI;X-ADDRESS=Kriekauer Straße 21\, Tauc
 ha\, Sachsen\, 04425\, Deutschland;X-APPLE-RADIUS=100;X-TITLE=Sport- und F
 reizeitzentrum (SFZ) Kriekauer Straße:geo:0,0
END:VEVENT
BEGIN:VTIMEZONE
TZID:Europe/Berlin
X-LIC-LOCATION:Europe/Berlin
BEGIN:DAYLIGHT
DTSTART:20260329T030000
TZOFFSETFROM:+0100
TZOFFSETTO:+0200
TZNAME:CEST
END:DAYLIGHT
END:VTIMEZONE
END:VCALENDAR