BEGIN:VCALENDAR
VERSION:2.0
PRODID:-//wp-events-plugin.com//7.2.3.1//EN
TZID:Europe/Berlin
X-WR-TIMEZONE:Europe/Berlin
BEGIN:VEVENT
UID:179@taucha-events.de
DTSTART;TZID=Europe/Berlin:20240530T180000
DTEND;TZID=Europe/Berlin:20240530T200000
DTSTAMP:20240514T183405Z
URL:https://taucha-events.de/termine/buergerdialog/
SUMMARY:Bürgerdialog
DESCRIPTION:Am 9. Juni werden das Europäische Parlament und die sächsisch
 en Kommunalparlamente gewählt.\n\nSie haben Fragen zur Bundespolitik oder
  kommunalen Themen?\n\nKommen Sie ins Gespräch mit Dr. Paula Piechotta\, 
 Mitglied des Bundestages\, und den Kandidatinnen und Kandidaten von Bündn
 is 90 / Die Grünen zur Kommunalwahl in Taucha.\n\nFür Snacks und Geträn
 ke ist gesorgt.
ATTACH;FMTTYPE=image/jpeg:https://taucha-events.de/wp-content/uploads/2024
 /05/Plakat-Buergerdialog.png
CATEGORIES:Politik
LOCATION:Grünen-Büro Taucha\, Leipziger Straße 44\, Taucha\, 04425\, Deu
 tschland
X-APPLE-STRUCTURED-LOCATION;VALUE=URI;X-ADDRESS=Leipziger Straße 44\, Tauc
 ha\, 04425\, Deutschland;X-APPLE-RADIUS=100;X-TITLE=Grünen-Büro Taucha:g
 eo:0,0
END:VEVENT
BEGIN:VTIMEZONE
TZID:Europe/Berlin
X-LIC-LOCATION:Europe/Berlin
BEGIN:DAYLIGHT
DTSTART:20240331T030000
TZOFFSETFROM:+0100
TZOFFSETTO:+0200
TZNAME:CEST
END:DAYLIGHT
END:VTIMEZONE
END:VCALENDAR