BEGIN:VCALENDAR
VERSION:2.0
PRODID:-//wp-events-plugin.com//7.2.3.1//EN
TZID:Europe/Berlin
X-WR-TIMEZONE:Europe/Berlin
BEGIN:VEVENT
UID:210@taucha-events.de
DTSTART;TZID=Europe/Berlin:20240814T190000
DTEND;TZID=Europe/Berlin:20240814T210000
DTSTAMP:20240813T132013Z
URL:https://taucha-events.de/termine/demokratie-stammtisch-lokale-demokrat
 ie-staerken-ideen-und-impulse-fuer-taucha/
SUMMARY:Demokratie-Stammtisch: Lokale Demokratie stärken - Ideen und Impul
 se für Taucha
DESCRIPTION:Wir laden herzlich ein zum Demokratie-Stammtisch in Taucha. Las
 sen Sie uns gemeinsam überlegen\, wie wir die Demokratie in unserer Stadt
  stärken können.\n\nAn diesem Abend werfen wir einen Blick auf die aktue
 lle Praxis der Kommunalpolitik in Taucha:\n\n 	Was erwarten wir von der Ar
 beit des neu gewählten Stadtrats?\n 	Ist dessen Arbeit transparent genug?
 \n 	Welche Einfluss- und Mitmachmöglichkeiten haben wir als Bürger*innen
 ?\n\nEs gibt bereits engagierte Bürger*innen in Ausschüssen und einen B
 ürger*innenhaushalt. Wie können wir diese Möglichkeiten noch besser nut
 zen? Wir wollen auch neue Konzepte für mehr lokale Demokratie diskutieren
 . Ein Beispiel sind Bürger*innenräte\, bei denen per Losverfahren ausgew
 ählte Bürger*innen zu bestimmten Themen gemeinsam beraten und Vorschläg
 e einbringen.\n\nGanz konkret möchten wir diskutieren\, welche Themen ein
  Bürger*innenrat in Taucha bearbeiten könnte. Vielleicht finden wir auch
  weitere Ideen\, um die Teilhabe an der lokalen Politik zu erhöhen.\n\nRe
 ferent*innen zu den Themen sind angefragt und werden in Kürze hier veröf
 fentlicht.\n\nSeien Sie dabei und gestalten Sie die Demokratie in Taucha a
 ktiv mit!\n\nWeitere Informationen: https://gemeinsam-fuer-ein-demokratisc
 hes-taucha.de
ATTACH;FMTTYPE=image/jpeg:https://taucha-events.de/wp-content/uploads/2024
 /08/signal-2024-05-26-23-19-35-721-8-lg.jpg
CATEGORIES:Gesellschaft,Politik
LOCATION:Diakonat der Ev.-Luth. Kirchgemeinde Taucha-Dewitz-Sehlis\, Rudolf
 -Winkelmann-Straße 3\, Taucha\, Sachsen\, 04425\, Deutschland
X-APPLE-STRUCTURED-LOCATION;VALUE=URI;X-ADDRESS=Rudolf-Winkelmann-Straße 3
 \, Taucha\, Sachsen\, 04425\, Deutschland;X-APPLE-RADIUS=100;X-TITLE=Diako
 nat der Ev.-Luth. Kirchgemeinde Taucha-Dewitz-Sehlis:geo:0,0
END:VEVENT
BEGIN:VTIMEZONE
TZID:Europe/Berlin
X-LIC-LOCATION:Europe/Berlin
BEGIN:DAYLIGHT
DTSTART:20240331T030000
TZOFFSETFROM:+0100
TZOFFSETTO:+0200
TZNAME:CEST
END:DAYLIGHT
END:VTIMEZONE
END:VCALENDAR