BEGIN:VCALENDAR
VERSION:2.0
PRODID:-//wp-events-plugin.com//7.2.3.1//EN
TZID:Europe/Berlin
X-WR-TIMEZONE:Europe/Berlin
BEGIN:VEVENT
UID:356@taucha-events.de
DTSTART;TZID=Europe/Berlin:20250426T100000
DTEND;TZID=Europe/Berlin:20250426T130000
DTSTAMP:20250406T113506Z
URL:https://taucha-events.de/termine/fruehjahrsputz-im-stadtpark-taucha/
SUMMARY:Frühjahrsputz im Stadtpark Taucha
DESCRIPTION:Die Klima-Initiative lädt alle Tauchaer am 26.04.2025 zu einem
  gemeinsamen Frühjahrsputz entlang der Parthe ein.\nKrempeln wir die Ärm
 el hoch\, schnappen wir uns ein paar Müllsäcke und bringen wir unseren S
 tadtpark zum Strahlen. Gemeinsam können wir viel bewirken!\n\nAusrüstung
  darf gern mitgebracht werden. Wir haben aber auch Müllsäcke und Handsch
 uhe vorrätig.\nWir freuen uns auf zahlreiches Kommen und viele Helfer.\n\
 nTreffpunkt ist am Samstag\, 26.04.2025 um 10.00 Uhr am Eingang zum Parthe
 bad.\n\nArchivfoto: Zweckverband Parthenaue
ATTACH;FMTTYPE=image/jpeg:https://taucha-events.de/wp-content/uploads/2025
 /04/fruehjahrsputz.webp
CATEGORIES:Natur
LOCATION:PartheBad Taucha\, An der Parthe 20\, 04425 Taucha\, 04425\, Deuts
 chland
X-APPLE-STRUCTURED-LOCATION;VALUE=URI;X-ADDRESS=An der Parthe 20\, 04425 Ta
 ucha\, 04425\, Deutschland;X-APPLE-RADIUS=100;X-TITLE=PartheBad Taucha:geo
 :0,0
END:VEVENT
BEGIN:VTIMEZONE
TZID:Europe/Berlin
X-LIC-LOCATION:Europe/Berlin
BEGIN:DAYLIGHT
DTSTART:20250330T030000
TZOFFSETFROM:+0100
TZOFFSETTO:+0200
TZNAME:CEST
END:DAYLIGHT
END:VTIMEZONE
END:VCALENDAR