BEGIN:VCALENDAR
VERSION:2.0
PRODID:-//wp-events-plugin.com//7.2.3.1//EN
TZID:Europe/Berlin
X-WR-TIMEZONE:Europe/Berlin
BEGIN:VEVENT
UID:775@taucha-events.de
DTSTART;TZID=Europe/Berlin:20260802T100000
DTEND;TZID=Europe/Berlin:20260802T160000
DTSTAMP:20260424T080812Z
URL:https://taucha-events.de/termine/zuckertuetenbaum-fuer-schulanfaenger/
SUMMARY:Zuckertütenbaum für Schulanfänger
DESCRIPTION:Ihr plant am 02. August einen Familienausflug ins Bad und seid
  Schulanfänger? Dann haben wir eine ganz besondere Überraschung für euc
 h! Wir laden alle angehenden Schulkinder herzlich ein\, sich ihre eigene Z
 uckertüte an unserem Zuckertütenbaum zu pflücken – ein unvergessliche
 r Start in den neuen Lebensabschnitt. \n\nDie Anzahl der Zuckertüten ist 
 begrenzt\, daher ist eine vorherige Anmeldung erforderlich. Diese ist ab d
 em 24.07.2026 über unseren Shop möglich. \nFür die angemeldeten\, werde
 nden Schulkinder ist der Eintritt kostenfrei. Begleitpersonen zahlen den r
 egulären Tageseintritt.
ATTACH;FMTTYPE=image/jpeg:https://taucha-events.de/wp-content/uploads/2026
 /04/Veranstaltungen-PB-6.png
CATEGORIES:Gesellschaft
LOCATION:PartheBad Taucha\, An der Parthe 20\, 04425 Taucha\, 04425\, Deuts
 chland
X-APPLE-STRUCTURED-LOCATION;VALUE=URI;X-ADDRESS=An der Parthe 20\, 04425 Ta
 ucha\, 04425\, Deutschland;X-APPLE-RADIUS=100;X-TITLE=PartheBad Taucha:geo
 :0,0
END:VEVENT
BEGIN:VTIMEZONE
TZID:Europe/Berlin
X-LIC-LOCATION:Europe/Berlin
BEGIN:DAYLIGHT
DTSTART:20260329T030000
TZOFFSETFROM:+0100
TZOFFSETTO:+0200
TZNAME:CEST
END:DAYLIGHT
END:VTIMEZONE
END:VCALENDAR